BEGIN:VCALENDAR
VERSION:2.0
PRODID:-//Tukios.com/
BEGIN:VEVENT
UID:79c0675c-caae-4ea9-8481-932dfc4a3896@www.tubmanfuneralhomes.com
DTSTAMP:20260422T161029Z
DTSTART:20260522T150000Z
DTEND:20260522T160000Z
SUMMARY:Memorial Service
DESCRIPTION:
URL:https://www.tubmanfuneralhomes.com/obituaries/ruth-king
LOCATION: 3440 Richmond Road  Nepean ON K2H 8H7
GEO:45.3378609;-75.8092297
END:VEVENT
END:VCALENDAR