BEGIN:VCALENDAR
VERSION:2.0
PRODID:-//Tukios.com/
BEGIN:VEVENT
UID:bf3fb303-bd4e-4695-a59f-458090717b1b@www.tubmanfuneralhomes.com
DTSTAMP:20260421T001531Z
DTSTART:20260424T220000Z
DTEND:20260425T000000Z
SUMMARY:Visitation
DESCRIPTION:
URL:https://www.tubmanfuneralhomes.com/obituaries/linda-dods-nee-graham
LOCATION:Tubman Funeral Home - Carp Chapel 115 Rivington Street  Ottawa 
	ON K0A 1L0
GEO:45.3432906;-76.0324477
END:VEVENT
END:VCALENDAR