BEGIN:VCALENDAR
VERSION:2.0
PRODID:-//Tukios.com/
BEGIN:VEVENT
UID:ee3b5f7a-7e87-4d66-9ef0-c61ea3b86ca4@www.tubmanfuneralhomes.com
DTSTAMP:20260421T001314Z
DTSTART:20260424T170000Z
DTEND:20260424T190000Z
SUMMARY:Visitation
DESCRIPTION:
URL:https://www.tubmanfuneralhomes.com/obituaries/linda-dods-nee-graham
LOCATION:Tubman Funeral Home - Carp Chapel 115 Rivington Street  Ottawa 
	ON K0A 1L0
GEO:45.3432906;-76.0324477
END:VEVENT
END:VCALENDAR