BEGIN:VCALENDAR
VERSION:2.0
PRODID:-//Tukios.com/
BEGIN:VEVENT
UID:334c5fe7-6662-4dfa-8bff-213b3e86132e@www.tubmanfuneralhomes.com
DTSTAMP:20260425T184537Z
DTSTART:20260514T160000Z
DTEND:20260514T180000Z
SUMMARY:Visitation
DESCRIPTION:
URL:https://www.tubmanfuneralhomes.com/obituaries/dixie-mcleod
LOCATION:Kars Chapel of Tubman Funeral Homes 1610 Roger Stevens Drive  
	Ottawa ON K0A 2E0
GEO:45.1559212;-75.6571296
END:VEVENT
END:VCALENDAR