BEGIN:VCALENDAR
VERSION:2.0
PRODID:-//Tukios.com/
BEGIN:VEVENT
UID:423ab05e-1caa-4179-b59a-72427cc4d6bd@www.tubmanfuneralhomes.com
DTSTAMP:20260422T161207Z
DTSTART:20260425T200000Z
DTEND:20260425T220000Z
SUMMARY:Visitation
DESCRIPTION:
URL:https://www.tubmanfuneralhomes.com/obituaries/bao-hu
LOCATION: 3440 Richmond Road  Nepean ON K2H 8H7
GEO:45.3378609;-75.8092297
END:VEVENT
END:VCALENDAR